BEGIN:VCALENDAR
VERSION:2.0
PRODID:-//Iowa Soccer - ECPv6.15.17.1//NONSGML v1.0//EN
CALSCALE:GREGORIAN
METHOD:PUBLISH
X-ORIGINAL-URL:https://www.iowasoccer.org
X-WR-CALDESC:Events for Iowa Soccer
REFRESH-INTERVAL;VALUE=DURATION:PT1H
X-Robots-Tag:noindex
X-PUBLISHED-TTL:PT1H
BEGIN:VTIMEZONE
TZID:America/Chicago
BEGIN:DAYLIGHT
TZOFFSETFROM:-0600
TZOFFSETTO:-0500
TZNAME:CDT
DTSTART:20230312T080000
END:DAYLIGHT
BEGIN:STANDARD
TZOFFSETFROM:-0500
TZOFFSETTO:-0600
TZNAME:CST
DTSTART:20231105T070000
END:STANDARD
BEGIN:DAYLIGHT
TZOFFSETFROM:-0600
TZOFFSETTO:-0500
TZNAME:CDT
DTSTART:20240310T080000
END:DAYLIGHT
BEGIN:STANDARD
TZOFFSETFROM:-0500
TZOFFSETTO:-0600
TZNAME:CST
DTSTART:20241103T070000
END:STANDARD
BEGIN:DAYLIGHT
TZOFFSETFROM:-0600
TZOFFSETTO:-0500
TZNAME:CDT
DTSTART:20250309T080000
END:DAYLIGHT
BEGIN:STANDARD
TZOFFSETFROM:-0500
TZOFFSETTO:-0600
TZNAME:CST
DTSTART:20251102T070000
END:STANDARD
END:VTIMEZONE
BEGIN:VEVENT
DTSTART;VALUE=DATE:20240907
DTEND;VALUE=DATE:20240909
DTSTAMP:20260421T130636
CREATED:20240415T224956Z
LAST-MODIFIED:20240415T224956Z
UID:10000445-1725667200-1725839999@www.iowasoccer.org
SUMMARY:Fall Classic (Muscatine)
DESCRIPTION:A premier tournament\, Halloween frivolity\, and family entertainment complete with a front row view of the Mighty Mississippi!\n– 8U-19U Boys & Girls\n– High quality fields\n– 1st and 2nd place awards\n– Assigned by quality referee assignor\n– Veteran tournament management\n– DOCs call for special rate\n– Priority scheduling for coaches with 2 teams\n– Easy online registration \nAre you a DOC or TD looking for marketing materials to send your teams? Check out these flyers. \nEnjoy it all for a great LOW price! \n\nU9 & U10: $507.64\nU11 & U12: $548.08\nU13+: $616.42\n(Prices include 2.5% transaction fee)\n\n 
URL:https://www.iowasoccer.org/event/fall-classic-muscatine/
LOCATION:Muscatine Soccer Complex\, 401 S Houser St.\, Muscatine\, IA\, 52761\, United States
CATEGORIES:Member Events
ATTACH;FMTTYPE=image/jpeg:https://www.iowasoccer.org/wp-content/uploads/sites/169/2024/04/Muscatine-2024-fall-e1713221369186.jpg
ORGANIZER;CN="Steve Lovgren":MAILTO:steve@smcsoccer.com
END:VEVENT
END:VCALENDAR