BEGIN:VCALENDAR
VERSION:2.0
PRODID:-//Iowa Soccer - ECPv6.15.17.1//NONSGML v1.0//EN
CALSCALE:GREGORIAN
METHOD:PUBLISH
X-WR-CALNAME:Iowa Soccer
X-ORIGINAL-URL:https://www.iowasoccer.org
X-WR-CALDESC:Events for Iowa Soccer
REFRESH-INTERVAL;VALUE=DURATION:PT1H
X-Robots-Tag:noindex
X-PUBLISHED-TTL:PT1H
BEGIN:VTIMEZONE
TZID:UTC
BEGIN:STANDARD
TZOFFSETFROM:+0000
TZOFFSETTO:+0000
TZNAME:UTC
DTSTART:20220101T000000
END:STANDARD
END:VTIMEZONE
BEGIN:VEVENT
DTSTART;VALUE=DATE:20231104
DTEND;VALUE=DATE:20231106
DTSTAMP:20260421T045331
CREATED:20231205T230734Z
LAST-MODIFIED:20231205T230858Z
UID:10000429-1699056000-1699228799@www.iowasoccer.org
SUMMARY:Iowa Soccer League Weekend\, Fall '23
DESCRIPTION:
URL:https://www.iowasoccer.org/event/iowa-soccer-league-weekend-fall-23-2/2023-11-04/
CATEGORIES:Competitions
ATTACH;FMTTYPE=image/png:https://www.iowasoccer.org/wp-content/uploads/sites/169/2023/09/16-9-iowa-soccer-league.png
ORGANIZER;CN="Mike Wilson":MAILTO:mwilson@iowasoccer.org
END:VEVENT
BEGIN:VEVENT
DTSTART;VALUE=DATE:20231029
DTEND;VALUE=DATE:20231031
DTSTAMP:20260421T045331
CREATED:20230920T043818Z
LAST-MODIFIED:20231205T231038Z
UID:10000051-1698537600-1698710399@www.iowasoccer.org
SUMMARY:2024 Iowa Presidents Cup\, Fall '23 Competition
DESCRIPTION:15U-19U age groups\nTeams competing to become Iowa’s champion and represent #TeamIowa at the 2024 Regional Presidents Cup Championships (June 13-17) in South Dakota
URL:https://www.iowasoccer.org/event/2024-iowa-presidents-cup-fall-23-competition/2023-10-29/
LOCATION:Gregg Young Auto Sports Campus\, 1401 High Rd\, Norwalk\, IA\, 50211\, United States
CATEGORIES:Competitions
ATTACH;FMTTYPE=image/png:https://www.iowasoccer.org/wp-content/uploads/sites/169/2023/09/16-9-iowa-pcup.png
ORGANIZER;CN="Craig Winger":MAILTO:cwinger@iowasoccer.org
END:VEVENT
BEGIN:VEVENT
DTSTART;VALUE=DATE:20231028
DTEND;VALUE=DATE:20231030
DTSTAMP:20260421T045331
CREATED:20231205T230734Z
LAST-MODIFIED:20231205T230858Z
UID:10000428-1698451200-1698623999@www.iowasoccer.org
SUMMARY:Iowa Soccer League Weekend\, Fall '23
DESCRIPTION:
URL:https://www.iowasoccer.org/event/iowa-soccer-league-weekend-fall-23-2/2023-10-28/
CATEGORIES:Competitions
ATTACH;FMTTYPE=image/png:https://www.iowasoccer.org/wp-content/uploads/sites/169/2023/09/16-9-iowa-soccer-league.png
ORGANIZER;CN="Mike Wilson":MAILTO:mwilson@iowasoccer.org
END:VEVENT
BEGIN:VEVENT
DTSTART;VALUE=DATE:20231028
DTEND;VALUE=DATE:20231030
DTSTAMP:20260421T045331
CREATED:20230920T043818Z
LAST-MODIFIED:20231205T231038Z
UID:10000050-1698451200-1698623999@www.iowasoccer.org
SUMMARY:2024 Iowa Presidents Cup\, Fall '23 Competition
DESCRIPTION:15U-19U age groups\nTeams competing to become Iowa’s champion and represent #TeamIowa at the 2024 Regional Presidents Cup Championships (June 13-17) in South Dakota
URL:https://www.iowasoccer.org/event/2024-iowa-presidents-cup-fall-23-competition/2023-10-28/
LOCATION:Gregg Young Auto Sports Campus\, 1401 High Rd\, Norwalk\, IA\, 50211\, United States
CATEGORIES:Competitions
ATTACH;FMTTYPE=image/png:https://www.iowasoccer.org/wp-content/uploads/sites/169/2023/09/16-9-iowa-pcup.png
ORGANIZER;CN="Craig Winger":MAILTO:cwinger@iowasoccer.org
END:VEVENT
BEGIN:VEVENT
DTSTART;VALUE=DATE:20231022
DTEND;VALUE=DATE:20231024
DTSTAMP:20260421T045331
CREATED:20230920T043818Z
LAST-MODIFIED:20231205T231038Z
UID:10000049-1697932800-1698105599@www.iowasoccer.org
SUMMARY:2024 Iowa Presidents Cup\, Fall '23 Competition
DESCRIPTION:15U-19U age groups\nTeams competing to become Iowa’s champion and represent #TeamIowa at the 2024 Regional Presidents Cup Championships (June 13-17) in South Dakota
URL:https://www.iowasoccer.org/event/2024-iowa-presidents-cup-fall-23-competition/2023-10-22/
LOCATION:Gregg Young Auto Sports Campus\, 1401 High Rd\, Norwalk\, IA\, 50211\, United States
CATEGORIES:Competitions
ATTACH;FMTTYPE=image/png:https://www.iowasoccer.org/wp-content/uploads/sites/169/2023/09/16-9-iowa-pcup.png
ORGANIZER;CN="Craig Winger":MAILTO:cwinger@iowasoccer.org
END:VEVENT
BEGIN:VEVENT
DTSTART;VALUE=DATE:20231021
DTEND;VALUE=DATE:20231023
DTSTAMP:20260421T045331
CREATED:20231205T230734Z
LAST-MODIFIED:20231205T230858Z
UID:10000427-1697846400-1698019199@www.iowasoccer.org
SUMMARY:Iowa Soccer League Weekend\, Fall '23
DESCRIPTION:
URL:https://www.iowasoccer.org/event/iowa-soccer-league-weekend-fall-23-2/2023-10-21/
CATEGORIES:Competitions
ATTACH;FMTTYPE=image/png:https://www.iowasoccer.org/wp-content/uploads/sites/169/2023/09/16-9-iowa-soccer-league.png
ORGANIZER;CN="Mike Wilson":MAILTO:mwilson@iowasoccer.org
END:VEVENT
BEGIN:VEVENT
DTSTART;VALUE=DATE:20231021
DTEND;VALUE=DATE:20231023
DTSTAMP:20260421T045331
CREATED:20230920T043818Z
LAST-MODIFIED:20231205T231038Z
UID:10000048-1697846400-1698019199@www.iowasoccer.org
SUMMARY:2024 Iowa Presidents Cup\, Fall '23 Competition
DESCRIPTION:15U-19U age groups\nTeams competing to become Iowa’s champion and represent #TeamIowa at the 2024 Regional Presidents Cup Championships (June 13-17) in South Dakota
URL:https://www.iowasoccer.org/event/2024-iowa-presidents-cup-fall-23-competition/2023-10-21/
LOCATION:Gregg Young Auto Sports Campus\, 1401 High Rd\, Norwalk\, IA\, 50211\, United States
CATEGORIES:Competitions
ATTACH;FMTTYPE=image/png:https://www.iowasoccer.org/wp-content/uploads/sites/169/2023/09/16-9-iowa-pcup.png
ORGANIZER;CN="Craig Winger":MAILTO:cwinger@iowasoccer.org
END:VEVENT
BEGIN:VEVENT
DTSTART;VALUE=DATE:20231014
DTEND;VALUE=DATE:20231016
DTSTAMP:20260421T045331
CREATED:20231205T230734Z
LAST-MODIFIED:20231205T230858Z
UID:10000426-1697241600-1697414399@www.iowasoccer.org
SUMMARY:Iowa Soccer League Weekend\, Fall '23
DESCRIPTION:
URL:https://www.iowasoccer.org/event/iowa-soccer-league-weekend-fall-23-2/2023-10-14/
CATEGORIES:Competitions
ATTACH;FMTTYPE=image/png:https://www.iowasoccer.org/wp-content/uploads/sites/169/2023/09/16-9-iowa-soccer-league.png
ORGANIZER;CN="Mike Wilson":MAILTO:mwilson@iowasoccer.org
END:VEVENT
BEGIN:VEVENT
DTSTART;VALUE=DATE:20231007
DTEND;VALUE=DATE:20231009
DTSTAMP:20260421T045331
CREATED:20231205T230734Z
LAST-MODIFIED:20231205T230858Z
UID:10000425-1696636800-1696809599@www.iowasoccer.org
SUMMARY:Iowa Soccer League Weekend\, Fall '23
DESCRIPTION:
URL:https://www.iowasoccer.org/event/iowa-soccer-league-weekend-fall-23-2/2023-10-07/
CATEGORIES:Competitions
ATTACH;FMTTYPE=image/png:https://www.iowasoccer.org/wp-content/uploads/sites/169/2023/09/16-9-iowa-soccer-league.png
ORGANIZER;CN="Mike Wilson":MAILTO:mwilson@iowasoccer.org
END:VEVENT
BEGIN:VEVENT
DTSTART;VALUE=DATE:20230930
DTEND;VALUE=DATE:20231002
DTSTAMP:20260421T045331
CREATED:20231205T230734Z
LAST-MODIFIED:20231205T230858Z
UID:10000424-1696032000-1696204799@www.iowasoccer.org
SUMMARY:Iowa Soccer League Weekend\, Fall '23
DESCRIPTION:
URL:https://www.iowasoccer.org/event/iowa-soccer-league-weekend-fall-23-2/2023-09-30/
CATEGORIES:Competitions
ATTACH;FMTTYPE=image/png:https://www.iowasoccer.org/wp-content/uploads/sites/169/2023/09/16-9-iowa-soccer-league.png
ORGANIZER;CN="Mike Wilson":MAILTO:mwilson@iowasoccer.org
END:VEVENT
BEGIN:VEVENT
DTSTART;VALUE=DATE:20230930
DTEND;VALUE=DATE:20231001
DTSTAMP:20260421T045331
CREATED:20230920T045107Z
LAST-MODIFIED:20231205T230922Z
UID:10000174-1696032000-1696118399@www.iowasoccer.org
SUMMARY:League America Festival Fall '23
DESCRIPTION:
URL:https://www.iowasoccer.org/event/league-america-festival-fall-23/
LOCATION:Waverly Soccer Complex\, 1300 8th St. SE\, Waverly\, IA\, 50677\, United States
CATEGORIES:Competitions
ATTACH;FMTTYPE=image/png:https://www.iowasoccer.org/wp-content/uploads/sites/169/2023/09/16-9-LAF.png
ORGANIZER;CN="Mike Wilson":MAILTO:mwilson@iowasoccer.org
END:VEVENT
BEGIN:VEVENT
DTSTART;VALUE=DATE:20230923
DTEND;VALUE=DATE:20230925
DTSTAMP:20260421T045331
CREATED:20231205T230734Z
LAST-MODIFIED:20231205T230858Z
UID:10000423-1695427200-1695599999@www.iowasoccer.org
SUMMARY:Iowa Soccer League Weekend\, Fall '23
DESCRIPTION:
URL:https://www.iowasoccer.org/event/iowa-soccer-league-weekend-fall-23-2/2023-09-23/
CATEGORIES:Competitions
ATTACH;FMTTYPE=image/png:https://www.iowasoccer.org/wp-content/uploads/sites/169/2023/09/16-9-iowa-soccer-league.png
ORGANIZER;CN="Mike Wilson":MAILTO:mwilson@iowasoccer.org
END:VEVENT
BEGIN:VEVENT
DTSTART;VALUE=DATE:20230916
DTEND;VALUE=DATE:20230918
DTSTAMP:20260421T045331
CREATED:20231205T230734Z
LAST-MODIFIED:20231205T230858Z
UID:10000422-1694822400-1694995199@www.iowasoccer.org
SUMMARY:Iowa Soccer League Weekend\, Fall '23
DESCRIPTION:
URL:https://www.iowasoccer.org/event/iowa-soccer-league-weekend-fall-23-2/2023-09-16/
CATEGORIES:Competitions
ATTACH;FMTTYPE=image/png:https://www.iowasoccer.org/wp-content/uploads/sites/169/2023/09/16-9-iowa-soccer-league.png
ORGANIZER;CN="Mike Wilson":MAILTO:mwilson@iowasoccer.org
END:VEVENT
BEGIN:VEVENT
DTSTART;VALUE=DATE:20230909
DTEND;VALUE=DATE:20230911
DTSTAMP:20260421T045331
CREATED:20231205T230734Z
LAST-MODIFIED:20231205T230858Z
UID:10000205-1694217600-1694390399@www.iowasoccer.org
SUMMARY:Iowa Soccer League Weekend\, Fall '23
DESCRIPTION:
URL:https://www.iowasoccer.org/event/iowa-soccer-league-weekend-fall-23-2/2023-09-09/
CATEGORIES:Competitions
ATTACH;FMTTYPE=image/png:https://www.iowasoccer.org/wp-content/uploads/sites/169/2023/09/16-9-iowa-soccer-league.png
ORGANIZER;CN="Mike Wilson":MAILTO:mwilson@iowasoccer.org
END:VEVENT
BEGIN:VEVENT
DTSTART;VALUE=DATE:20230826
DTEND;VALUE=DATE:20230828
DTSTAMP:20260421T045331
CREATED:20230920T042924Z
LAST-MODIFIED:20231205T230301Z
UID:10000026-1693008000-1693180799@www.iowasoccer.org
SUMMARY:State League\, Opening Weekend
DESCRIPTION:
URL:https://www.iowasoccer.org/event/state-league-opening-weekend/
CATEGORIES:Competitions
ORGANIZER;CN="Mike Wilson":MAILTO:mwilson@iowasoccer.org
END:VEVENT
END:VCALENDAR