BEGIN:VCALENDAR
VERSION:2.0
PRODID:-//Iowa Soccer - ECPv6.15.17.1//NONSGML v1.0//EN
CALSCALE:GREGORIAN
METHOD:PUBLISH
X-WR-CALNAME:Iowa Soccer
X-ORIGINAL-URL:https://www.iowasoccer.org
X-WR-CALDESC:Events for Iowa Soccer
REFRESH-INTERVAL;VALUE=DURATION:PT1H
X-Robots-Tag:noindex
X-PUBLISHED-TTL:PT1H
BEGIN:VTIMEZONE
TZID:America/Chicago
BEGIN:DAYLIGHT
TZOFFSETFROM:-0600
TZOFFSETTO:-0500
TZNAME:CDT
DTSTART:20220313T080000
END:DAYLIGHT
BEGIN:STANDARD
TZOFFSETFROM:-0500
TZOFFSETTO:-0600
TZNAME:CST
DTSTART:20221106T070000
END:STANDARD
BEGIN:DAYLIGHT
TZOFFSETFROM:-0600
TZOFFSETTO:-0500
TZNAME:CDT
DTSTART:20230312T080000
END:DAYLIGHT
BEGIN:STANDARD
TZOFFSETFROM:-0500
TZOFFSETTO:-0600
TZNAME:CST
DTSTART:20231105T070000
END:STANDARD
BEGIN:DAYLIGHT
TZOFFSETFROM:-0600
TZOFFSETTO:-0500
TZNAME:CDT
DTSTART:20240310T080000
END:DAYLIGHT
BEGIN:STANDARD
TZOFFSETFROM:-0500
TZOFFSETTO:-0600
TZNAME:CST
DTSTART:20241103T070000
END:STANDARD
END:VTIMEZONE
BEGIN:VEVENT
DTSTART;TZID=America/Chicago:20231209T080000
DTEND;TZID=America/Chicago:20231209T110000
DTSTAMP:20260420T125033
CREATED:20231130T222732Z
LAST-MODIFIED:20231206T000930Z
UID:10000417-1702108800-1702119600@www.iowasoccer.org
SUMMARY:Grassroots Referee Course BURLINGTON
DESCRIPTION:The minimum age requirement to become a registered referee with U.S. Soccer is 13. \nTraining for the referee course is specific to: \n\nyouth and adult competitions\nsmall-sided 7v7\, 9v9\nfull-sided 11v11\noutdoor matches\n\n\nSIGNUP INSTRUCTIONS \nCreate a Learning Center Profile \nAll referees must have a Learning Center Profile. Your account Profile will contain your unique e-Mail address\, password\, mailing address\, phone number\, etc. To create a Profile\, go to the US Soccer Learning Center and click on ‘Sign Up’. Follow the instructions provided in Learning Center Signup. \nAfter you’ve created your Profile\, click on ‘Courses’. Then\, click on ‘Go to Course List’ to find the location of this course\, and click “Course Details.” \nUndergo a Background Check \nIf you are age 18 or older\, you must next initiate a National Center for Safety Initiatives (NCSI) Background Check. You cannot register for this or any other course until you have completed a background check. Follow the instructions described in Initiating a Background Screen to initiate the process from your Profile. The cost is $30 and is good for 2 years. You pay online with a credit card. Determinations take between 7-10 days. \nNOTE: Even if you are a coach who has had a background check recently through the Iowa Soccer Association (ISA) by Reference Services\, Inc. (RSI)\, you must still have the NCSI Background Check performed. It is the only one that will be accepted. \nRegister for this Grassroots In-Person Course \nAfter you have completed your NCSI Background Check or if you are under 18\, click on ‘Proceed to Registration’. Fill in the required fields and then ‘Proceed to Payment’ to provide your credit card information. Once your $60 payment is processed\, you’ll enter the course Classroom. Click on the ‘Assignments’ tab to open. The course has 4 assignments: \n\nOnline Grassroots Referee Course(4 hour module – go at your own pace)\nSafeSport Training(90 minute module required for ages 18 and older)\nIntroduction to Safe and Healthy Playing Environments(30 minute presentation)\nGrassroots Referee Certification Quiz (25 questions)\n\nClick on the Online Grassroots Referee Course assignment to begin. As you complete each assignment\, click on ‘Save and Confirm’. \nSubsequent Logins to the Learning Center \nYou do not have to complete all the assignments in one sitting. You can go at your own pace\, e.g.\, working 20 or 30 minutes at a time\, closing the assignment\, and then logging-out of the Learning Center. Later\, when you want to resume: \n\nLog in to the Learning Center\n• Click on ‘Courses’ in the upper left of the screen\n• Next\, click on the ‘My Courses’ tab\n• Find this course and click on ‘Go to Classroom’ on the right\nClick on the ‘Assignments’ tab\n• Open the assignment that you want to resume and pick up where you left off\n\nIMPORTANT: The assignments are prerequisite\, i.e.\, you must complete them all before you show up for the in-person course.
URL:https://www.iowasoccer.org/event/grassroots-referee-course-burlington/
LOCATION:North Hill Elementary School\, 825 N 9th St\, Burlington\, IA\, 52601\, United States
CATEGORIES:Grassroots Ref Course
ATTACH;FMTTYPE=image/png:https://www.iowasoccer.org/wp-content/uploads/sites/169/2023/09/16-9-cobrand-irc.png
ORGANIZER;CN="Alec Clark":MAILTO:clarkaah1234@gmail.com
END:VEVENT
END:VCALENDAR