BEGIN:VCALENDAR
VERSION:2.0
PRODID:-//Iowa Soccer - ECPv6.15.17.1//NONSGML v1.0//EN
CALSCALE:GREGORIAN
METHOD:PUBLISH
X-WR-CALNAME:Iowa Soccer
X-ORIGINAL-URL:https://www.iowasoccer.org
X-WR-CALDESC:Events for Iowa Soccer
REFRESH-INTERVAL;VALUE=DURATION:PT1H
X-Robots-Tag:noindex
X-PUBLISHED-TTL:PT1H
BEGIN:VTIMEZONE
TZID:UTC
BEGIN:STANDARD
TZOFFSETFROM:+0000
TZOFFSETTO:+0000
TZNAME:UTC
DTSTART:20220101T000000
END:STANDARD
END:VTIMEZONE
BEGIN:VEVENT
DTSTART;VALUE=DATE:20230814
DTEND;VALUE=DATE:20230815
DTSTAMP:20260425T075938
CREATED:20230920T081615Z
LAST-MODIFIED:20230920T081615Z
UID:10000407-1691971200-1692057599@www.iowasoccer.org
SUMMARY:RDP-Approved Club Training: J-Hawk/Iowa United
DESCRIPTION:
URL:https://www.iowasoccer.org/event/rdp-approved-club-training-j-hawk-iowa-united/
LOCATION:Walker Johnston Park\, 9000 Douglas Ave\, Urbandale\, IA\, 50322\, United States
CATEGORIES:Referees
END:VEVENT
END:VCALENDAR